BEGIN:VCALENDAR
VERSION:2.0
PRODID:-//https://www.kalwun.com.au//NONSGML kigkonsult.se iCalcreator 2.29
 .21//
CALSCALE:GREGORIAN
METHOD:PUBLISH
UID:d9896f4f-f147-48cc-8baf-562e140ec408
X-WR-CALNAME:JCal Pro Calendar
X-WR-CALDESC:Your online events calendar
X-WR-TIMEZONE:Australia/Brisbane
BEGIN:VTIMEZONE
TZID:Australia/Brisbane
BEGIN:STANDARD
TZNAME:AEST
DTSTART:20190528T170200
TZOFFSETFROM:+0000
TZOFFSETTO:+1000
END:STANDARD
END:VTIMEZONE
BEGIN:VEVENT
UID:20210321T080000AEST-6403J5EBVV@https://www.kalwun.com.au/
DTSTAMP:20210226T170200Z
CATEGORIES:Uncategorised
DESCRIPTION:<div class='kvgmc6g5 cxmmr5t8 oygrvhab hcukyx3x c1et5uql'>Enter
  a team in our 3 on 3 Basketball Competition!</div>\n<p>· 3 age divisions:
  12-13 years\, 14-16 years and 17-opens<br />· 5 players per team (3 Indig
 enous players and 2 non-Indigenous players optional)<br />· DC ambassadors
 <br />· Dunking competition<br />· 10-minute games<br />· Half-court shot 
 competition and 3 point competition (prizes to be won)<br />· Jumping cast
 le for kids<br />· Teams to arrive at 8am sharp for a 8.30am start<br />· 
 Teams to supply uniforms</p>\n<div class='o9v6fnle cxmmr5t8 oygrvhab hcuky
 x3x c1et5uql'>Registrations are essential to book your place. Register by 
 Monday 15 March to <span id='cloakf77321e2f099ffbb141a4259cee84dcd'>This e
 mail address is being protected from spambots. You need JavaScript enabled
  to view it.</span><script type='text/javascript'>
				document.getElementById(
 'cloakf77321e2f099ffbb141a4259cee84dcd').innerHTML = ''\;
				var prefix = '&#1
 09\;a' + 'i&#108\;' + '&#116\;o'\;
				var path = 'hr' + 'ef' + '='\;
				var addyf7
 7321e2f099ffbb141a4259cee84dcd = 'c&#105\;&#97\;nn&#105\;.r&#111\;b&#101\;
 rts' + '&#64\;'\;
				addyf77321e2f099ffbb141a4259cee84dcd = addyf77321e2f099ff
 bb141a4259cee84dcd + 'k&#97\;lw&#117\;n' + '&#46\;' + 'c&#111\;m' + '&#46\
 ;' + '&#97\;&#117\;'\;
				var addy_textf77321e2f099ffbb141a4259cee84dcd = 'c&#
 105\;&#97\;nn&#105\;.r&#111\;b&#101\;rts' + '&#64\;' + 'k&#97\;lw&#117\;n'
  + '&#46\;' + 'c&#111\;m' + '&#46\;' + '&#97\;&#117\;'\;document.getElemen
 tById('cloakf77321e2f099ffbb141a4259cee84dcd').innerHTML += '<a ' + path +
  '\'' + prefix + ':' + addyf77321e2f099ffbb141a4259cee84dcd + '\'>'+addy_t
 extf77321e2f099ffbb141a4259cee84dcd+'<\/a>'\;
		</script></div>\n<div>&nbsp\;
 </div>\n<div class='o9v6fnle cxmmr5t8 oygrvhab hcukyx3x c1et5uql'>This eve
 nt is alcohol\, smoke and sugar free.</div>
DTSTART;TZID=Australia/Brisbane:20210321T080000
DTEND;TZID=Australia/Brisbane:20210321T133000
SUMMARY:3 on 3 Deadly Choices Basketball Competition
URL:https://www.kalwun.com.au/news-and-resources/events-calendar/22-uncateg
 orised/18-3-on-3-deadly-choices-basketball-competition
X-ALT-DESC;FMTTYPE=TEXT/HTML:<div class='kvgmc6g5 cxmmr5t8 oygrvhab hcukyx3
 x c1et5uql'>Enter a team in our 3 on 3 Basketball Competition!</div>\n<p>·
  3 age divisions: 12-13 years\, 14-16 years and 17-opens<br />· 5 players 
 per team (3 Indigenous players and 2 non-Indigenous players optional)<br /
 >· DC ambassadors<br />· Dunking competition<br />· 10-minute games<br />·
  Half-court shot competition and 3 point competition (prizes to be won)<br
  />· Jumping castle for kids<br />· Teams to arrive at 8am sharp for a 8.3
 0am start<br />· Teams to supply uniforms</p>\n<div class='o9v6fnle cxmmr5
 t8 oygrvhab hcukyx3x c1et5uql'>Registrations are essential to book your pl
 ace. Register by Monday 15 March to <span id='cloakf77321e2f099ffbb141a425
 9cee84dcd'>This email address is being protected from spambots. You need J
 avaScript enabled to view it.</span><script type='text/javascript'>
				documen
 t.getElementById('cloakf77321e2f099ffbb141a4259cee84dcd').innerHTML = ''\;
 
				var prefix = '&#109\;a' + 'i&#108\;' + '&#116\;o'\;
				var path = 'hr' + 'ef' 
 + '='\;
				var addyf77321e2f099ffbb141a4259cee84dcd = 'c&#105\;&#97\;nn&#105\;
 .r&#111\;b&#101\;rts' + '&#64\;'\;
				addyf77321e2f099ffbb141a4259cee84dcd = a
 ddyf77321e2f099ffbb141a4259cee84dcd + 'k&#97\;lw&#117\;n' + '&#46\;' + 'c&
 #111\;m' + '&#46\;' + '&#97\;&#117\;'\;
				var addy_textf77321e2f099ffbb141a42
 59cee84dcd = 'c&#105\;&#97\;nn&#105\;.r&#111\;b&#101\;rts' + '&#64\;' + 'k
 &#97\;lw&#117\;n' + '&#46\;' + 'c&#111\;m' + '&#46\;' + '&#97\;&#117\;'\;d
 ocument.getElementById('cloakf77321e2f099ffbb141a4259cee84dcd').innerHTML 
 += '<a ' + path + '\'' + prefix + ':' + addyf77321e2f099ffbb141a4259cee84d
 cd + '\'>'+addy_textf77321e2f099ffbb141a4259cee84dcd+'<\/a>'\;
		</script></d
 iv>\n<div>&nbsp\;</div>\n<div class='o9v6fnle cxmmr5t8 oygrvhab hcukyx3x c
 1et5uql'>This event is alcohol\, smoke and sugar free.</div>
END:VEVENT
END:VCALENDAR
